BEGIN:VCALENDAR
VERSION:2.0
PRODID:floktu.com
X-WR-TIMEZONE:Australia/Melbourne
X-PUBLISHED-TTL:P1W
BEGIN:VEVENT
UID:FloktuEvent32367@floktu.com
DTSTART;TZID=Australia/Melbourne:20250203T100000
SEQUENCE:0
TRANSP:OPAQUE
DTEND;TZID=Australia/Melbourne:20250322T100000
SUMMARY:Parkwood Tennis Club Raffle 2025
DESCRIPTION:Visit https://parkwoodtennisclubraffle.floktu.com for more info
 rmation.
DTSTAMP:20260421T185855Z
END:VEVENT
BEGIN:VTIMEZONE
TZID:Australia/Melbourne
X-LIC-LOCATION:Australia/Melbourne
END:VTIMEZONE
END:VCALENDAR