BEGIN:VCALENDAR
VERSION:2.0
PRODID:floktu.com
X-PUBLISHED-TTL:P1W
BEGIN:VEVENT
UID:FloktuEvent32367@floktu.com
DTSTART:20250202T230000Z
SEQUENCE:0
TRANSP:OPAQUE
DTEND:20250321T230000Z
SUMMARY:Parkwood Tennis Club Raffle 2025
DESCRIPTION:Visit https://parkwoodtennisclubraffle.floktu.com for more info
 rmation.
DTSTAMP:20260421T184933Z
END:VEVENT
END:VCALENDAR